BEGIN:VCALENDAR
VERSION:2.0
PRODID:-//ChamberMaster//Event Calendar 2.0//EN
METHOD:PUBLISH
X-PUBLISHED-TTL:P3D
REFRESH-INTERVAL:P3D
CALSCALE:GREGORIAN
BEGIN:VEVENT
DTSTART:20190227T000000Z
DTEND:20190227T010000Z
X-MICROSOFT-CDO-ALLDAYEVENT:FALSE
SUMMARY:Nativity of Mary Kindergarten Round-Up
DESCRIPTION:Calling all incoming Kindergarteners for our annual K Round Up! Come visit our Kindergarten class\, meet teachers\, make crafts and tour the school. Its a fun night for both students and parents! Come see what its like to be a Nativity Nighthawk.
X-ALT-DESC;FMTTYPE=text/html:<span style="color:rgb(29\, 33\, 41)\; font-family:system-ui\,-apple-system\,system-ui\,.sfnstext-regular\,sans-serif\; font-size:14px">Calling all incoming Kindergarteners for our annual K Round Up! Come visit our Kindergarten class\, meet teachers\, make crafts and tour the school. Its a fun night for both students and parents! Come see what its like to be a Nativity Nighthawk.</span>
LOCATION:Nativity of Mary School 10021 E 36th Terrace Independence\, MO. 64052
UID:e.2043.9030
SEQUENCE:3
DTSTAMP:20260424T200322Z
URL:https://business.ichamber.biz/events/details/nativity-of-mary-kindergarten-round-up-9030
END:VEVENT

END:VCALENDAR
