BEGIN:VCALENDAR
VERSION:2.0
PRODID:-//ChamberMaster//Event Calendar 2.0//EN
METHOD:PUBLISH
X-PUBLISHED-TTL:P3D
REFRESH-INTERVAL:P3D
CALSCALE:GREGORIAN
BEGIN:VEVENT
DTSTART:20190127T173000Z
DTEND:20190127T193000Z
X-MICROSOFT-CDO-ALLDAYEVENT:FALSE
SUMMARY:Nativity of Mary Open House
DESCRIPTION:Come see what our Nativity community is all about! Our Open House will be on Sunday\, January 27\, 2019 11:30 am to 1:30 pm. Classrooms will be open and teachers will lead activities in each room. School tours will be available. The Book Fair will be open and don't forget to come grab a donut in our Parish Hall and meet some of our current Nativity families!
X-ALT-DESC;FMTTYPE=text/html:<span style="color:rgb(29\, 33\, 41)\; font-family:system-ui\,-apple-system\,system-ui\,.sfnstext-regular\,sans-serif\; font-size:14px">Come see what our Nativity community is all about! Our Open House will be on Sunday\, January 27\, 2019 11:30 am to 1:30 pm. Classrooms will be open and teachers will lead activities in each room. School tours will be available. The Book Fair will be open and don&#39\;t forget to come grab a donut in our Parish Hall and meet some of our current Nativity families!</span>
LOCATION:Nativity of Mary School 10021 E 36th Terrace Independence\, MO 64052
UID:e.2043.9029
SEQUENCE:3
DTSTAMP:20260424T200219Z
URL:https://business.ichamber.biz/events/details/nativity-of-mary-open-house-9029
END:VEVENT

END:VCALENDAR
