BEGIN:VCALENDAR
VERSION:2.0
PRODID:-//ChamberMaster//Event Calendar 2.0//EN
METHOD:PUBLISH
X-PUBLISHED-TTL:P3D
REFRESH-INTERVAL:P3D
CALSCALE:GREGORIAN
BEGIN:VEVENT
DTSTART:20190309T230000Z
DTEND:20190310T040000Z
X-MICROSOFT-CDO-ALLDAYEVENT:FALSE
SUMMARY:Nativity of Mary School Auction
DESCRIPTION:The Nativity of Mary School Auction is the largest school fundraiser that raises money for our school scholarships so all students can benefit from a faith-based education. Saturday\, March 9\, 2019 at 5:00 pm marks the annual PTO auction at Nativity of Mary. This is a fun night out and benefits our wonderful Catholic School! Tickets are $35 for individuals\, $60 for couples\, and $300 for a reserved table of 8. Ticket includes admission\, dinner\, dessert\, drinks (including beer\, wine\, and specialty drinks)\, and your auction bid-booklet. Tickets will be $40 each at the door\, so see the ticket link on our website to buy your tickets online in advance and save! Table reservations are limited. Please contact Aleah at aleahslp@gmail.com to reserve a table. We hope you will join us in celebrating our great school and community! If you are a local business that would like to donate items or services to our silent or live auction\, please contact Aleah as well. All donations welcome!
X-ALT-DESC;FMTTYPE=text/html:<span style="color:rgb(29\, 33\, 41)\; font-family:system-ui\,-apple-system\,system-ui\,.sfnstext-regular\,sans-serif\; font-size:14px">The Nativity of Mary School Auction is the largest school fundraiser that raises money for our school scholarships so all students can benefit from a faith-based education. Saturday\, March 9\, 2019 at 5:00 pm marks the annual PTO auction at Nativity of Mary. This is a fun night out and benefits our wonderful Catholic School! Tickets are $35 for individuals\, $60 for couples\, and $300 for a reserved table of 8. Ticket includes admission\, dinner\, dessert\, drinks (including beer\, wine\, and specialty drinks)\, and your auction bid-booklet. Tickets will be $40 each at the door\, so see the ticket link on our website to buy your tickets online in advance and save! Table reservations are limited. Please contact Aleah at aleahslp@gmail.com to reserve a table. We hope you will join us in celebrating our great school and community! If you are a local business that would like to donate items or services to our silent or live auction\, please contact Aleah as well. All donations welcome!&nbsp\;</span>
LOCATION:Nativity of Mary Parish Hall Please enter using the 40 HWY entrance 10021 E 36th Terrace Independence\, MO. 64052
UID:e.2043.9031
SEQUENCE:3
DTSTAMP:20260424T212020Z
URL:https://business.ichamber.biz/events/details/nativity-of-mary-school-auction-9031
END:VEVENT

END:VCALENDAR
