BEGIN:VCALENDAR
VERSION:2.0
PRODID:-//ChamberMaster//Event Calendar 2.0//EN
METHOD:PUBLISH
X-PUBLISHED-TTL:P3D
REFRESH-INTERVAL:P3D
CALSCALE:GREGORIAN
BEGIN:VEVENT
DTSTART:20190316T230000Z
DTEND:20190317T010000Z
X-MICROSOFT-CDO-ALLDAYEVENT:FALSE
SUMMARY:Night at the Museum: Trails Thru Time
DESCRIPTION:Join the National Frontier Trails Museum for an unforgettable evening where characters from the past come to life. Follow the trails through history as pioneers share their stories of migration. From the Great Wagon Road of the colonial era to the railroads of the late 1800s\, visitors will learn about the many trails which have spread diverse people\, ideas\, and culture throughout America. Refreshments provided. Sponsored by Friends of the National Frontier Trails Museum.\n\n\n\nAdmission is $18\, $15 for members of the Friends of NFTM\, OCTA\, SFTA\, and their local chapters. Call the museum to reserve your tickets (816)325-7575
X-ALT-DESC;FMTTYPE=text/html:<span style="font-size:14px"><span style="font-family:arial\,helvetica\,sans-serif">Join the National Frontier Trails Museum for an unforgettable evening where characters from the past come to life. Follow the trails through history as pioneers share their stories of migration. From the Great Wagon Road of the colonial era to the railroads of the late 1800s\, visitors will learn about the many trails which have spread diverse people\, ideas\, and culture throughout America. Refreshments provided. Sponsored by Friends of the National Frontier Trails Museum.<br />\n<br />\nAdmission is $18\, $15 for members of the Friends of NFTM\, OCTA\, SFTA\, and their local chapters<strong>.</strong> Call the museum to reserve your tickets (816)325-7575</span></span><br />\n&nbsp\;
LOCATION:National Frontier Trails Museum 318 W. Pacific Ave. Independence\, MO 64050
UID:e.2043.9037
SEQUENCE:3
DTSTAMP:20260424T211830Z
URL:https://business.ichamber.biz/events/details/night-at-the-museum-trails-thru-time-9037
END:VEVENT

END:VCALENDAR
