BEGIN:VCALENDAR
VERSION:2.0
PRODID:-//ChamberMaster//Event Calendar 2.0//EN
METHOD:PUBLISH
X-PUBLISHED-TTL:P3D
REFRESH-INTERVAL:P3D
CALSCALE:GREGORIAN
BEGIN:VEVENT
DTSTART:20190418T230000Z
DTEND:20190419T003000Z
X-MICROSOFT-CDO-ALLDAYEVENT:FALSE
SUMMARY:Night Out with Dynamic!
DESCRIPTION:Join us for an evening of fun\, learning\, and prizes!\n\n\n\nCome learn how chiropractic can help you live a QUALITY long life! \n\n\n\nLight snacks will be provided. Shopping cart discount for attendees. Plus\, a bonus gift card RAFFLE!
X-ALT-DESC;FMTTYPE=text/html:<span style="background-color:transparent\; color:rgb(29\, 33\, 41)\; font-family:helvetica\,arial\,sans-serif\; font-size:14px">Join us for an evening of fun\, learning\, and prizes!</span><br />\n<br />\n<span style="background-color:transparent\; color:rgb(29\, 33\, 41)\; font-family:helvetica\,arial\,sans-serif\; font-size:14px">Come learn how chiropractic can help you live a QUALITY long life! </span><br />\n<br />\n<strong><span style="background-color:transparent\; color:rgb(29\, 33\, 41)\; font-family:helvetica\,arial\,sans-serif\; font-size:14px">Light snacks will be provided. Shopping cart discount for attendees. Plus\, a bonus gift card RAFFLE!</span></strong>
LOCATION:Terra Health & Wellness Market Conveniently located just off I-70 and Little Blue Parkway\, in the same shopping venter as Bed\, Bath & Beyond and World Market.
UID:e.2043.9522
SEQUENCE:3
DTSTAMP:20260424T223607Z
URL:https://business.ichamber.biz/events/details/night-out-with-dynamic-9522
END:VEVENT

END:VCALENDAR
