BEGIN:VCALENDAR
VERSION:2.0
PRODID:-//ChamberMaster//Event Calendar 2.0//EN
METHOD:PUBLISH
X-PUBLISHED-TTL:P3D
REFRESH-INTERVAL:P3D
CALSCALE:GREGORIAN
BEGIN:VEVENT
DTSTART:20200730T173000Z
DTEND:20200730T190000Z
X-MICROSOFT-CDO-ALLDAYEVENT:FALSE
SUMMARY:Online Essentials for Small Businesses
DESCRIPTION:This course focuses on the essentials every business must work through for operating a business online. Hear from Alan Weber about designing your online business model\, creating your online presence\, and using support systems to guide your business.
X-ALT-DESC;FMTTYPE=text/html:This course focuses on the essentials every business must work through for operating a business online. Hear from Alan Weber about designing your online business model\, creating your online presence\, and using support systems to guide your business.
LOCATION:Missouri Chamber of Commerce Webinar
UID:e.2043.12905
SEQUENCE:3
DTSTAMP:20260425T125822Z
URL:https://business.ichamber.biz/events/details/online-essentials-for-small-businesses-12905
END:VEVENT

END:VCALENDAR
