BEGIN:VCALENDAR
VERSION:2.0
PRODID:-//ChamberMaster//Event Calendar 2.0//EN
METHOD:PUBLISH
X-PUBLISHED-TTL:P3D
REFRESH-INTERVAL:P3D
CALSCALE:GREGORIAN
BEGIN:VEVENT
DTSTART:20180327T130000Z
DTEND:20180327T143000Z
X-MICROSOFT-CDO-ALLDAYEVENT:FALSE
SUMMARY:Open House Breakfast
DESCRIPTION:Independence Chamber Open House Breakfast\n\n**This breakfast is intended for non-members of the Chamber to come learn about the valuable opportunities the Independence Chamber offers to help enhance you and your business!
X-ALT-DESC;FMTTYPE=text/html:Independence Chamber Open House Breakfast<br />\n**This breakfast is intended for non-members of the Chamber to come learn about the valuable opportunities the Independence Chamber offers to help enhance you and your business!&nbsp\;
LOCATION:Chamber Board Room 210 W Truman Rd Independence MO 64050
UID:e.2043.5522
SEQUENCE:3
DTSTAMP:20260424T045250Z
URL:https://business.ichamber.biz/events/details/open-house-breakfast-03-27-2018-5522
END:VEVENT

END:VCALENDAR
