BEGIN:VCALENDAR
VERSION:2.0
PRODID:-//ChamberMaster//Event Calendar 2.0//EN
METHOD:PUBLISH
X-PUBLISHED-TTL:P3D
REFRESH-INTERVAL:P3D
CALSCALE:GREGORIAN
BEGIN:VEVENT
DTSTART:20171020T130000Z
DTEND:20171020T143000Z
X-MICROSOFT-CDO-ALLDAYEVENT:FALSE
SUMMARY:Open House Breakfast
DESCRIPTION:Independence Chamber Open House Breakfast\n\nThis breakfast is intended for non-members of the Chamber to come learn about the valuable opportunities the Independence Chamber offers to help enhance you and your business!
X-ALT-DESC;FMTTYPE=text/html:Independence Chamber Open House Breakfast<br />\nThis breakfast is intended for non-members of the Chamber to come learn about the valuable opportunities the Independence Chamber offers to help enhance you and your business!&nbsp\;
LOCATION:Chamber Board Room 210 W Truman Rd Independence MO 64050
UID:e.2043.5311
SEQUENCE:3
DTSTAMP:20260424T075909Z
URL:https://business.ichamber.biz/events/details/open-house-breakfast-10-20-2017-5311
END:VEVENT

END:VCALENDAR
