BEGIN:VCALENDAR
VERSION:2.0
PRODID:-//ChamberMaster//Event Calendar 2.0//EN
METHOD:PUBLISH
X-PUBLISHED-TTL:P3D
REFRESH-INTERVAL:P3D
CALSCALE:GREGORIAN
BEGIN:VEVENT
DTSTART:20190820T133000Z
DTEND:20190820T143000Z
X-MICROSOFT-CDO-ALLDAYEVENT:FALSE
SUMMARY:Open House & Ribbon Cutting for La Quinta by Wyndham
DESCRIPTION:Please join us to welcome the completely renovated and newly owned La Quinta Inn by Wyndham! Full breakfast will be provided!
X-ALT-DESC;FMTTYPE=text/html:Please join us to welcome the completely renovated and newly owned La Quinta Inn by Wyndham! Full breakfast will be provided!
LOCATION:
UID:e.2043.9937
SEQUENCE:3
DTSTAMP:20260425T022007Z
URL:https://business.ichamber.biz/events/details/open-house-ribbon-cutting-for-la-quinta-by-wyndham-9937
END:VEVENT

END:VCALENDAR
