BEGIN:VCALENDAR
VERSION:2.0
PRODID:-//ChamberMaster//Event Calendar 2.0//EN
METHOD:PUBLISH
X-PUBLISHED-TTL:P3D
REFRESH-INTERVAL:P3D
CALSCALE:GREGORIAN
BEGIN:VEVENT
DTSTART:20251109T000000Z
DTEND:20251109T030000Z
X-MICROSOFT-CDO-ALLDAYEVENT:FALSE
SUMMARY:PAWS & PALS K.I.N.D. "Tail"gate PAWTY
DESCRIPTION:Join us for a PAWSOME night of Community\, Giving Back\, and Dogs!! There will be a Silent Auction\, great food\, and beer!
X-ALT-DESC;FMTTYPE=text/html:Join us for a PAWSOME night of Community\, Giving Back\, and Dogs!! There will be a Silent Auction\, great food\, and beer!
LOCATION:3 Trails Brewing
UID:e.2043.19701
SEQUENCE:3
DTSTAMP:20260425T192309Z
URL:https://business.ichamber.biz/events/details/paws-pals-k-i-n-d-tail-gate-pawty-19701
END:VEVENT

END:VCALENDAR
