BEGIN:VCALENDAR
VERSION:2.0
PRODID:-//ChamberMaster//Event Calendar 2.0//EN
METHOD:PUBLISH
X-PUBLISHED-TTL:P3D
REFRESH-INTERVAL:P3D
CALSCALE:GREGORIAN
BEGIN:VEVENT
DTSTART:20170928T213000Z
DTEND:20170929T000000Z
X-MICROSOFT-CDO-ALLDAYEVENT:FALSE
SUMMARY:Political Briefing from the US Chamber of Commerce
DESCRIPTION:We hope you can join us for this Political Briefing. \n\n*There are only 20 seats available for this event. \n\n\n\nRob will discuss the political environment in Washington DC with new administration and how it affects business. \n\n\n\nRob Engstrom is senior vice president and the national political director at the U.S. Chamber of Commerce. He is responsible for directing the Chamber's national political\, grassroots\, and electionrelated activities. \n\nIn 2014\, Engstrom oversaw the most aggressive voter education campaign in U.S. Chamber history\, which led to the largest probusiness majority in the House of Representatives since 1928 and the first pro-business majority in the Senate since 2006.
X-ALT-DESC;FMTTYPE=text/html:<span style="font-size:14px\;"><span style="font-family:arial\;"><span style="color:#000000\;">We hope you can join us for this Political Briefing.&nbsp\;<br />\n*There are only 20 seats available for this event.&nbsp\;<br />\n<br />\nRob will discuss the political environment&nbsp\;in Washington DC with new administration and how it affects business.&nbsp\;<br />\n<br />\nRob Engstrom is senior vice president and the national political director at the U.S. Chamber of Commerce. He is responsible for directing the Chamber&#39\;s national political\, grassroots\, and electionrelated activities.&nbsp\;<br />\nIn 2014\, Engstrom oversaw the most aggressive voter education campaign in U.S. Chamber history\, which led to the largest probusiness majority in the House of Representatives since 1928 and the first pro-business majority in the Senate since 2006.&nbsp\;</span></span></span><br />\n<br />\n&nbsp\;\n<div style="text-align: center\;">&nbsp\;</div>\n
LOCATION:Stoney Creek Hotel & Conference Center 18011 Bass Pro Dr. Independence\, MO
UID:e.2043.5307
SEQUENCE:3
DTSTAMP:20260424T102701Z
URL:https://business.ichamber.biz/events/details/political-briefing-from-the-us-chamber-of-commerce-09-28-2017-5307
END:VEVENT

END:VCALENDAR
