BEGIN:VCALENDAR
VERSION:2.0
PRODID:-//ChamberMaster//Event Calendar 2.0//EN
METHOD:PUBLISH
X-PUBLISHED-TTL:P3D
REFRESH-INTERVAL:P3D
CALSCALE:GREGORIAN
BEGIN:VEVENT
DTSTART:20200611T163000Z
DTEND:20200611T183000Z
X-MICROSOFT-CDO-ALLDAYEVENT:FALSE
SUMMARY:POSTPONED: 8th Annual Chamber Picnic in the Uptown Market
DESCRIPTION:Join your fellow Chamber Members for Member Appreciation Day.\n\nI know you all will be excited to have shade this year!\n\nFree food and a great time will be had!
X-ALT-DESC;FMTTYPE=text/html:Join your fellow Chamber Members for Member Appreciation Day.<br />\nI know you all will be excited to have shade this year!<br />\nFree food and a great time will be had!
LOCATION:Independence Uptown Market 211 W Truman Rd Independence\, MO 64050
UID:e.2043.11977
SEQUENCE:3
DTSTAMP:20260425T120037Z
URL:https://business.ichamber.biz/events/details/postponed-8th-annual-chamber-picnic-in-the-uptown-market-11977
END:VEVENT

END:VCALENDAR
