BEGIN:VCALENDAR
VERSION:2.0
PRODID:-//ChamberMaster//Event Calendar 2.0//EN
METHOD:PUBLISH
X-PUBLISHED-TTL:P3D
REFRESH-INTERVAL:P3D
CALSCALE:GREGORIAN
BEGIN:VEVENT
DTSTART:20200514T133000Z
DTEND:20200514T143000Z
X-MICROSOFT-CDO-ALLDAYEVENT:FALSE
SUMMARY:Postponed: Ribbon Cutting for BlendWell Cafe's Work Life Center
DESCRIPTION:Please join us at BlendWell Cafe to help celebrate their new Work Life Center on the lower level! Light breakfast and coffee will be provided.
X-ALT-DESC;FMTTYPE=text/html:Please join us at BlendWell Cafe to help celebrate their new Work Life Center on the lower level! Light breakfast and coffee will be provided.
LOCATION:BlendWell Cafe
UID:e.2043.12840
SEQUENCE:3
DTSTAMP:20260425T105208Z
URL:https://business.ichamber.biz/events/details/postponed-ribbon-cutting-for-blendwell-cafe-s-work-life-center-12840
END:VEVENT

END:VCALENDAR
