BEGIN:VCALENDAR
VERSION:2.0
PRODID:-//ChamberMaster//Event Calendar 2.0//EN
METHOD:PUBLISH
X-PUBLISHED-TTL:P3D
REFRESH-INTERVAL:P3D
CALSCALE:GREGORIAN
BEGIN:VEVENT
DTSTART:20180731T163000Z
DTEND:20180731T173000Z
X-MICROSOFT-CDO-ALLDAYEVENT:FALSE
SUMMARY:Presentation by Congressman Emanuel Cleaver
DESCRIPTION:We invite you to join us on Tuesday\, July 31st as Congressman Emanuel Cleaver will be speaking to us regarding the 4 Opportunity Zones located in Independence\, MO.
X-ALT-DESC;FMTTYPE=text/html:We invite you to join us on Tuesday\, July 31st as Congressman Emanuel Cleaver will be speaking to us regarding the 4 Opportunity Zones located in Independence\, MO.&nbsp\;
LOCATION:Independence Chamber of Commerce 210 W. Truman Rd. Independence\, MO 64050
UID:e.2043.8408
SEQUENCE:3
DTSTAMP:20260424T092807Z
URL:https://business.ichamber.biz/events/details/presentation-by-congressman-emanuel-cleaver-8408
END:VEVENT

END:VCALENDAR
