BEGIN:VCALENDAR
VERSION:2.0
PRODID:-//ChamberMaster//Event Calendar 2.0//EN
METHOD:PUBLISH
X-PUBLISHED-TTL:P3D
REFRESH-INTERVAL:P3D
CALSCALE:GREGORIAN
BEGIN:VEVENT
DTSTART:20181127T150000Z
DTEND:20181127T210000Z
X-MICROSOFT-CDO-ALLDAYEVENT:FALSE
SUMMARY:Professional Portrait Opportunity for Chamber Members
DESCRIPTION:The Chamber is offering an opportunity for Chamber members to have a professional portrait taken at the Chamber of Commerce by Tami Kowalski\, with All Star Pictures on Tuesday\, November 27th from 9:00 am - 12:00 pm. Please click REGISTER NOW above and select a time slot available.  Arrive 5 minutes before your session begins. \n\nFEE:  $45/member - Includes one digital lightly edited image.  No other fees.\n\n\n\nTIPS ON WHAT TO WEAR:\n\n \n\n	Solid colors look great in headshots.  Best colors to wear: Black\, white or dark colors. Avoid wearing bright colors.   \n	If going with a pattern keep it simple.  \n	Make sure that ALL clothes are ironed and pressed before the shoot. \n	Bring a lint brush or roller with you.\n	Bring a brush and some hair product (gel/hairspray) with you to the shoot to help calm fly-aways. \n	Practice your best smile!
X-ALT-DESC;FMTTYPE=text/html:<span style="font-size:14px\;"><span style="font-family:arial\;">The Chamber is offering an opportunity for Chamber members to have a professional </span></span><span style="font-size:14px\;"><span style="font-family:arial\;">portrait</span></span><span style="font-size:14px\;"><span style="font-family:arial\;"> taken at the Chamber of Commerce by Tami Kowalski\, with </span></span><span style="font-size:14px\;"><span style="font-family:arial\;">All Star</span></span><span style="font-size:14px\;"><span style="font-family:arial\;"> Pictures on <strong>Tuesday\, November 27th from 9:00 am - 12:00 pm</strong>. Please click REGISTER NOW above and select a time slot available.&nbsp\; Arrive 5 minutes before your session begins.&nbsp\;<br />\nFEE:&nbsp\; $45/member - Includes one digital lightly edited image.&nbsp\; No other fees.<br />\n<br />\nTIPS ON WHAT TO WEAR:</span></span><br />\n&nbsp\;\n<ul style="box-sizing: border-box\; outline: 0px\; border: 0px\; font-family: Cabin\; font-size: 16px\; margin: 0px 0px 1.5em 3em\; padding-right: 0px\; padding-left: 0px\; vertical-align: baseline\; list-style-position: initial\; list-style-image: initial\; color: rgb(102\, 102\, 102)\;">\n	<li style="box-sizing: border-box\; outline: 0px\; border: 0px\; font-family: inherit\; font-style: inherit\; font-weight: inherit\; margin: 0px\; padding: 0px\; vertical-align: baseline\;"><span style="font-size:14px\;"><span style="font-family:arial\;"><span style="box-sizing: border-box\; outline: 0px\; border: 0px\; font-style: inherit\; font-weight: inherit\; margin: 0px\; padding: 0px\; vertical-align: baseline\; line-height: 13px\;">Solid colors look great in headshots.&nbsp\; Best colors to wear: Black\, white or dark colors. Avoid wearing bright colors.&nbsp\;&nbsp\;&nbsp\;</span></span></span></li>\n	<li style="box-sizing: border-box\; outline: 0px\; border: 0px\; font-family: inherit\; font-style: inherit\; font-weight: inherit\; margin: 0px\; padding: 0px\; vertical-align: baseline\;"><span style="font-size:14px\;"><span style="font-family:arial\;">If going with a pattern keep it simple.&nbsp\;&nbsp\;</span></span></li>\n	<li style="box-sizing: border-box\; outline: 0px\; border: 0px\; font-family: inherit\; font-style: inherit\; font-weight: inherit\; margin: 0px\; padding: 0px\; vertical-align: baseline\;"><span style="font-size:14px\;"><span style="font-family:arial\;">Make sure that&nbsp\;<strong style="box-sizing: border-box\; outline: 0px\; border: 0px\; font-family: inherit\; font-style: inherit\; margin: 0px\; padding: 0px\; vertical-align: baseline\;">ALL</strong>&nbsp\;clothes are ironed and pressed before the shoot.&nbsp\;</span></span></li>\n	<li style="box-sizing: border-box\; outline: 0px\; border: 0px\; font-family: inherit\; font-style: inherit\; font-weight: inherit\; margin: 0px\; padding: 0px\; vertical-align: baseline\;"><span style="font-size:14px\;"><span style="font-family:arial\;">Bring a lint brush or roller with you.</span></span></li>\n	<li style="box-sizing: border-box\; outline: 0px\; border: 0px\; font-family: inherit\; font-style: inherit\; font-weight: inherit\; margin: 0px\; padding: 0px\; vertical-align: baseline\;"><span style="font-size:14px\;"><span style="font-family:arial\;"><span style="box-sizing: border-box\; outline: 0px\; border: 0px\; font-style: inherit\; font-weight: inherit\; margin: 0px\; padding: 0px\; vertical-align: baseline\; line-height: 13px\;">Bring a brush and some hair product (gel/hairspray) with you to the shoot to help calm fly-aways.&nbsp\;</span></span></span></li>\n	<li style="box-sizing: border-box\; outline: 0px\; border: 0px\; font-family: inherit\; font-style: inherit\; font-weight: inherit\; margin: 0px\; padding: 0px\; vertical-align: baseline\;"><span style="font-size:14px\;"><span style="font-family:arial\;">Practice your best smile!</span></span></li>\n</ul>\n<span style="font-size:14px\;"><span style="font-family:arial\;">&nbsp\;</span></span>
LOCATION:Independence Chmaber of Commerce 210 W. Truman Rd. Independence\, MO 64050
UID:e.2043.8874
SEQUENCE:3
DTSTAMP:20260424T144457Z
URL:https://business.ichamber.biz/events/details/professional-portrait-opportunity-for-chamber-members-8874
END:VEVENT

END:VCALENDAR
