BEGIN:VCALENDAR
VERSION:2.0
PRODID:-//ChamberMaster//Event Calendar 2.0//EN
METHOD:PUBLISH
X-PUBLISHED-TTL:P3D
REFRESH-INTERVAL:P3D
CALSCALE:GREGORIAN
BEGIN:VEVENT
DTSTART:20171102T210000Z
DTEND:20171102T230000Z
X-MICROSOFT-CDO-ALLDAYEVENT:FALSE
SUMMARY:Progressive Party
DESCRIPTION:Join us at the chamber along with the Independence EDC for the 5th Annual Progressive Party - Independence Monopoly Edition.\n\n\n\nEach Chamber office will be showcasing different businesses along with a food and drink from one of our Independence restaurants!\n\nBe sure to stop in and enjoy this event - and bring a friend!!\n\n\n\nCLICK HERE TO REGISTER!
X-ALT-DESC;FMTTYPE=text/html:J<span background-color:="" font-size:="" style="color: rgb(51\, 51\, 51)\; font-family: sans-serif\, Arial\, Verdana\, " trebuchet="">oin</span><span background-color:="" font-size:="" style="color: rgb(51\, 51\, 51)\; font-family: sans-serif\, Arial\, Verdana\, " trebuchet=""> us at the chamber along with the Independence&nbsp\;EDC for the <strong>5th</strong></span><strong font-size:="" style="color: rgb(51\, 51\, 51)\; font-family: sans-serif\, Arial\, Verdana\, " trebuchet=""><strong>&nbsp\;</strong>Annual Progressive Party - Independence Monopoly Edition.</strong><br font-size:="" style="color: rgb(51\, 51\, 51)\; font-family: sans-serif\, Arial\, Verdana\, " trebuchet="" />\n<br font-size:="" style="color: rgb(51\, 51\, 51)\; font-family: sans-serif\, Arial\, Verdana\, " trebuchet="" />\n<span background-color:="" font-size:="" style="color: rgb(51\, 51\, 51)\; font-family: sans-serif\, Arial\, Verdana\, " trebuchet="">Each Chamber office will be showcasing different businesses along with a food and drink from one of our Independence restaurants!<br />\nBe sure to stop in and enjoy this event -&nbsp\;</span><strong font-size:="" style="color: rgb(51\, 51\, 51)\; font-family: sans-serif\, Arial\, Verdana\, " trebuchet="">and bring a friend!!</strong><br />\n<br />\n<span style="font-family:verdana\;"><span style="font-size:22px\;"><strong font-size:="" style="color: rgb(51\, 51\, 51)\; font-family: sans-serif\, Arial\, Verdana\, " trebuchet=""><a href="http://events.constantcontact.com/register/event?llr=8xwqne8ab&amp\;oeidk=a07eem65b4y0e3ffdd4"><span style="color:#FF0000\;">CLICK HERE TO REGISTER</span></a><span style="color:#FF0000\;">!</span></strong></span></span>
LOCATION:Chamber of Commerce 210 W Truman Rd. Independence MO 64050
UID:e.2043.5304
SEQUENCE:3
DTSTAMP:20260424T065314Z
URL:https://business.ichamber.biz/events/details/progressive-party-11-02-2017-5304
END:VEVENT

END:VCALENDAR
