BEGIN:VCALENDAR
VERSION:2.0
PRODID:-//ChamberMaster//Event Calendar 2.0//EN
METHOD:PUBLISH
X-PUBLISHED-TTL:P3D
REFRESH-INTERVAL:P3D
CALSCALE:GREGORIAN
BEGIN:VEVENT
DTSTART:20180205T213000Z
DTEND:20180205T230000Z
X-MICROSOFT-CDO-ALLDAYEVENT:FALSE
SUMMARY:Public Policy Committee
DESCRIPTION:The Public Policy Committee normally meets on the first Monday of each month at 3:30 pm p.m. in the Chamber Boardroom of the Free Enterprise Center.
X-ALT-DESC;FMTTYPE=text/html:The Public Policy Committee&nbsp\;normally meets on the first Monday of each month at 3:30 pm p.m. in the Chamber Boardroom of the Free Enterprise Center.
LOCATION:210 West Truman Road Independence\, MO 64050
UID:e.2043.1335
SEQUENCE:3
DTSTAMP:20260424T034644Z
URL:https://business.ichamber.biz/events/details/public-policy-committee-02-05-2018-1335
END:VEVENT

END:VCALENDAR
