BEGIN:VCALENDAR
VERSION:2.0
PRODID:-//ChamberMaster//Event Calendar 2.0//EN
METHOD:PUBLISH
X-PUBLISHED-TTL:P3D
REFRESH-INTERVAL:P3D
CALSCALE:GREGORIAN
BEGIN:VEVENT
DTSTART:20181001T203000Z
DTEND:20181001T213000Z
X-MICROSOFT-CDO-ALLDAYEVENT:FALSE
SUMMARY:Public Policy Committee
DESCRIPTION:The Public Policy Committee normally meets on the first Monday of each month at 3:30 p.m. in the Chamber Boardroom.  The Public Policy Committee will hear presentations on legislative issues that are affecting our members.  In November\, the committee will consolidate the info in a draft for the Chamber Board's final approval. \n\n\n\nContact Lois McDonald - lois@ichamber.biz to schedule a hearing.\n\nPublic Hearings will be scheduled on these dates:  October 1st & October 15th\n\n\n\nWatch for an announcement of a visit by Governor Mike Parson coming soon!
X-ALT-DESC;FMTTYPE=text/html:The Public Policy Committee&nbsp\;normally meets on the first Monday of each month at 3:30 p.m. in the Chamber Boardroom.&nbsp\; The Public Policy Committee will hear presentations on legislative issues that are affecting our members.&nbsp\; In November\, the committee will consolidate the info in a draft for the Chamber Board&#39\;s final approval.&nbsp\;<br />\n<br />\nContact Lois McDonald - <a href="mailto:lois@ichamber.biz">lois@ichamber.biz</a> to schedule a hearing.<br />\nPublic Hearings will be scheduled on these dates:&nbsp\; October 1st &amp\; October 15th<br />\n<br />\n<span style="color:#0000CD\;"><strong>Watch for an announcement&nbsp\;of a visit by Governor Mike Parson coming soon!</strong></span><br />\n<br />\n<br />\n&nbsp\;
LOCATION:210 West Truman Road Independence\, MO 64050
UID:e.2043.1343
SEQUENCE:3
DTSTAMP:20260424T131806Z
URL:https://business.ichamber.biz/events/details/public-policy-committee-10-01-2018-1343
END:VEVENT

END:VCALENDAR
