BEGIN:VCALENDAR
VERSION:2.0
PRODID:-//ChamberMaster//Event Calendar 2.0//EN
METHOD:PUBLISH
X-PUBLISHED-TTL:P3D
REFRESH-INTERVAL:P3D
CALSCALE:GREGORIAN
BEGIN:VEVENT
DTSTART:20181015T203000Z
DTEND:20181015T213000Z
X-MICROSOFT-CDO-ALLDAYEVENT:FALSE
SUMMARY:Public Policy Hearings
DESCRIPTION:To register\, contact Lois. In November\, the committee will consolidate the info in a draft for the Chamber Board's final approval.
X-ALT-DESC;FMTTYPE=text/html:To register\, contact Lois. In November\, the committee will consolidate the info in a draft for the Chamber Board&#39\;s final approval.&nbsp\;
LOCATION:Independence Chamber of Commerce 210 W. Truman Rd. Independence\, MO 64050
UID:e.2043.8748
SEQUENCE:3
DTSTAMP:20260424T131635Z
URL:https://business.ichamber.biz/events/details/public-policy-hearings-8748
END:VEVENT

END:VCALENDAR
