BEGIN:VCALENDAR
VERSION:2.0
PRODID:-//ChamberMaster//Event Calendar 2.0//EN
METHOD:PUBLISH
X-PUBLISHED-TTL:P3D
REFRESH-INTERVAL:P3D
CALSCALE:GREGORIAN
BEGIN:VEVENT
DTSTART:20191028T150000Z
DTEND:20191028T160000Z
X-MICROSOFT-CDO-ALLDAYEVENT:FALSE
SUMMARY:Public Policy Legislative Hearing
DESCRIPTION:The Public Policy Committee wants to hear from you!\n\nIf you or your organization have items that you would like to see represented on the Chamber's 2020 Legislative Agenda\, please email sarahbeth@ichamber.biz to get scheduled for a hearing with the Public Policy Committee. No item is too big or too small to be considered for the 2020 Legislative agenda! In 2020\, the topics on the Chamber's agenda will be used as a frame for Legislative Briefings\, trips to places like Jefferson City and Washington DC\, and Candidate forums. Make your voice heard!
X-ALT-DESC;FMTTYPE=text/html:<div style="color: rgb(255\, 255\, 255)\; font-family: Arial\, Verdana\, Helvetica\, sans-serif\; font-size: 24px\; font-weight: 700\; text-align: center\; white-space: pre-wrap\; background-color: rgb(108\, 175\, 107)\;"><span style="text-decoration-line: underline\;">The Public Policy Committee wants to hear from you!</span></div>\n\n<div style="color: rgb(255\, 255\, 255)\; font-family: Arial\, Verdana\, Helvetica\, sans-serif\; font-size: 24px\; font-weight: 700\; text-align: center\; white-space: pre-wrap\; background-color: rgb(108\, 175\, 107)\;"><span style="font-size: 14px\; font-family: Verdana\, Geneva\, sans-serif\;">If you or your organization have items that you would like to see represented on the Chamber&#39\;s 2020 Legislative Agenda\, please email&nbsp\;</span><a href="mailto:sarahbeth@ichamber.biz" style="color: rgb(41\, 75\, 147)\; font-size: 14px\; font-family: Verdana\, Geneva\, sans-serif\;" target="_blank">sarahbeth@ichamber.biz</a><span style="font-size: 14px\; color: rgb(237\, 30\, 7)\; font-family: Verdana\, Geneva\, sans-serif\;">&nbsp\;</span><span style="font-size: 14px\; font-family: Verdana\, Geneva\, sans-serif\;">to get scheduled for a hearing with the Public Policy Committee. No item is too big or too small to be considered for the 2020 Legislative agenda! In 2020\, the topics on the Chamber&#39\;s agenda will be used as a frame for Legislative Briefings\, trips to places like Jefferson City and Washington DC\, and Candidate forums. Make your voice heard!</span></div>\n
LOCATION:Independence Chamber of Commerce- Board Room
UID:e.2043.11974
SEQUENCE:3
DTSTAMP:20260425T040652Z
URL:https://business.ichamber.biz/events/details/public-policy-legislative-hearing-11974
END:VEVENT

END:VCALENDAR
