BEGIN:VCALENDAR
VERSION:2.0
PRODID:-//ChamberMaster//Event Calendar 2.0//EN
METHOD:PUBLISH
X-PUBLISHED-TTL:P3D
REFRESH-INTERVAL:P3D
CALSCALE:GREGORIAN
BEGIN:VEVENT
DTSTART:20200618T210000Z
DTEND:20200618T220000Z
X-MICROSOFT-CDO-ALLDAYEVENT:FALSE
SUMMARY:Quality Housing and Safe Neighborhoods Committee Meeting
DESCRIPTION:Get involved with identifying opportunities to enhance Independence housing stock\, encourage home ownership and attract capital investment for new construction and rehabilitation of existing homes in a safe environment.
X-ALT-DESC;FMTTYPE=text/html:Get involved with identifying opportunities to enhance Independence housing stock\, encourage home ownership and attract capital investment for new construction and rehabilitation of existing homes in a safe environment.
LOCATION:Independence Chamber of Commerce 210 W. Truman Road Independence\, MO 64050
UID:e.2043.12792
SEQUENCE:3
DTSTAMP:20260425T120043Z
URL:https://business.ichamber.biz/events/details/quality-housing-and-safe-neighborhoods-committee-meeting-06-18-2020-12792
END:VEVENT

END:VCALENDAR
