BEGIN:VCALENDAR
VERSION:2.0
PRODID:-//ChamberMaster//Event Calendar 2.0//EN
METHOD:PUBLISH
X-PUBLISHED-TTL:P3D
REFRESH-INTERVAL:P3D
CALSCALE:GREGORIAN
BEGIN:VEVENT
DTSTART:20181003T133000Z
DTEND:20181004T023000Z
X-MICROSOFT-CDO-ALLDAYEVENT:FALSE
SUMMARY:Re-Grand Opening for Aldi
DESCRIPTION:Come join the ribbon cutting for Aldi and see what they have new to offer. The Ribbon Cutting portion will be at 9:00 am\n\n*Continental breakfast provided
X-ALT-DESC;FMTTYPE=text/html:Come join the ribbon cutting for Aldi and see what they have new to offer. The Ribbon Cutting portion will be at 9:00 am<br />\n*Continental breakfast provided&nbsp\;
LOCATION:Aldi 16007 E. 23rd St. Independence\, MO 64055
UID:e.2043.8430
SEQUENCE:3
DTSTAMP:20260424T131717Z
URL:https://business.ichamber.biz/events/details/re-grand-opening-for-aldi-8430
END:VEVENT

END:VCALENDAR
