BEGIN:VCALENDAR
VERSION:2.0
PRODID:-//ChamberMaster//Event Calendar 2.0//EN
METHOD:PUBLISH
X-PUBLISHED-TTL:P3D
REFRESH-INTERVAL:P3D
CALSCALE:GREGORIAN
BEGIN:VEVENT
DTSTART:20191001T210000Z
DTEND:20191001T220000Z
X-MICROSOFT-CDO-ALLDAYEVENT:FALSE
SUMMARY:RESCHEDULED Grand Opening & Ribbon Cutting for Crisp Cuts& Style Barbershop
DESCRIPTION:Please join us in welcoming Crisp Cuts & Style Barbershop to the Independence business community! There will be small bites and refreshments catered for the event.
X-ALT-DESC;FMTTYPE=text/html:Please join us in welcoming Crisp Cuts &amp\; Style Barbershop to the Independence business community! There will be small bites and refreshments catered for the event.
LOCATION:
UID:e.2043.11576
SEQUENCE:3
DTSTAMP:20260425T040530Z
URL:https://business.ichamber.biz/events/details/rescheduled-grand-opening-ribbon-cutting-for-crisp-cuts-style-barbershop-11576
END:VEVENT

END:VCALENDAR
