BEGIN:VCALENDAR
VERSION:2.0
PRODID:-//ChamberMaster//Event Calendar 2.0//EN
METHOD:PUBLISH
X-PUBLISHED-TTL:P3D
REFRESH-INTERVAL:P3D
CALSCALE:GREGORIAN
BEGIN:VEVENT
DTSTART:20190125T200000Z
DTEND:20190125T210000Z
X-MICROSOFT-CDO-ALLDAYEVENT:FALSE
SUMMARY:Researching Your German Ancestors
DESCRIPTION:Do you have a German ancestor in your family tree? Learn the basic methods for completing German genealogy research. A brief history of Germany and former German lands will be presented\, as well as resources available at Midwest Genealogy Center and online.
X-ALT-DESC;FMTTYPE=text/html:<span style="background-color:rgb(245\, 245\, 245)\; color:rgb(51\, 51\, 51)\; font-family:helvetica neue\,helvetica\,arial\,sans-serif\; font-size:14px">Do you have a German ancestor in your family tree? Learn the basic methods for completing German genealogy research. A brief history of Germany and former German lands will be presented\, as well as resources available at Midwest Genealogy Center and online.</span>
LOCATION:Midwest Genealogy Center 3440 S. Lee's Summit Road Independence\, MO 64055-1923
UID:e.2043.8795
SEQUENCE:3
DTSTAMP:20260424T200212Z
URL:https://business.ichamber.biz/events/details/researching-your-german-ancestors-8795
END:VEVENT

END:VCALENDAR
