BEGIN:VCALENDAR
VERSION:2.0
PRODID:-//ChamberMaster//Event Calendar 2.0//EN
METHOD:PUBLISH
X-PUBLISHED-TTL:P3D
REFRESH-INTERVAL:P3D
CALSCALE:GREGORIAN
BEGIN:VEVENT
DTSTART:20190306T143000Z
DTEND:20190306T174500Z
X-MICROSOFT-CDO-ALLDAYEVENT:FALSE
SUMMARY:Reverse Job Fair
DESCRIPTION:This unique event will provide employers direct access to engage with job seekers who will be displaying their talents by providing resumes and informal tri-folds at stations.
X-ALT-DESC;FMTTYPE=text/html:This unique event will provide employers direct access to engage with job seekers who will be displaying their talents by providing resumes and informal tri-folds at stations.
LOCATION:Blue Springs Christian Church 7920 SW State Route 7 Blue Springs\, MO 64014
UID:e.2043.9081
SEQUENCE:3
DTSTAMP:20260424T211725Z
URL:https://business.ichamber.biz/events/details/reverse-job-fair-9081
END:VEVENT

END:VCALENDAR
