BEGIN:VCALENDAR
VERSION:2.0
PRODID:-//ChamberMaster//Event Calendar 2.0//EN
METHOD:PUBLISH
X-PUBLISHED-TTL:P3D
REFRESH-INTERVAL:P3D
CALSCALE:GREGORIAN
BEGIN:VEVENT
DTSTART:20161101T210000Z
DTEND:20161101T223000Z
X-MICROSOFT-CDO-ALLDAYEVENT:FALSE
SUMMARY:Ribbon Cutting
DESCRIPTION:Join the Chamber and Rosewood Health & Rehabilitation at the Groves as they unveil their new Mobility Courtyard. A unique area designed to help folks with rehab outdoors as they make the transition to home.
X-ALT-DESC;FMTTYPE=text/html:Join the Chamber and Rosewood Health &amp\; Rehabilitation at the Groves as they unveil their new Mobility Courtyard. A unique area designed to help folks with rehab outdoors as they make the transition to home.
LOCATION:1415 W. White Oak Independence\, MO 64050
UID:e.2043.3598
SEQUENCE:3
DTSTAMP:20260424T232634Z
URL:https://business.ichamber.biz/events/details/ribbon-cutting-11-01-2016-3598
END:VEVENT

END:VCALENDAR
