BEGIN:VCALENDAR
VERSION:2.0
PRODID:-//ChamberMaster//Event Calendar 2.0//EN
METHOD:PUBLISH
X-PUBLISHED-TTL:P3D
REFRESH-INTERVAL:P3D
CALSCALE:GREGORIAN
BEGIN:VEVENT
DTSTART:20161117T220000Z
DTEND:20161117T233000Z
X-MICROSOFT-CDO-ALLDAYEVENT:FALSE
SUMMARY:Ribbon Cutting
DESCRIPTION:Join State Farm Insurance agent Chad Mitchell and his team as they celebrate the grand opening of their new office space.
X-ALT-DESC;FMTTYPE=text/html:Join State Farm Insurance agent Chad Mitchell and his team as they celebrate the grand opening of their new office space.
LOCATION:14901 E. 42nd Street South Independence\, MO 64055
UID:e.2043.3600
SEQUENCE:3
DTSTAMP:20260424T232955Z
URL:https://business.ichamber.biz/events/details/ribbon-cutting-11-17-2016-3600
END:VEVENT

END:VCALENDAR
