BEGIN:VCALENDAR
VERSION:2.0
PRODID:-//ChamberMaster//Event Calendar 2.0//EN
METHOD:PUBLISH
X-PUBLISHED-TTL:P3D
REFRESH-INTERVAL:P3D
CALSCALE:GREGORIAN
BEGIN:VEVENT
DTSTART:20161206T170000Z
DTEND:20161206T190000Z
X-MICROSOFT-CDO-ALLDAYEVENT:FALSE
SUMMARY:Ribbon Cutting
DESCRIPTION:Come celebrate the first My Place Hotel in our area.  Take a tour of the facility following the ribbon cutting.
X-ALT-DESC;FMTTYPE=text/html:Come celebrate the first My Place Hotel in our area. &nbsp\;Take a tour of the facility following the ribbon cutting.&nbsp\;
LOCATION:
UID:e.2043.3602
SEQUENCE:3
DTSTAMP:20260424T221409Z
URL:https://business.ichamber.biz/events/details/ribbon-cutting-12-06-2016-3602
END:VEVENT

END:VCALENDAR
