BEGIN:VCALENDAR
VERSION:2.0
PRODID:-//ChamberMaster//Event Calendar 2.0//EN
METHOD:PUBLISH
X-PUBLISHED-TTL:P3D
REFRESH-INTERVAL:P3D
CALSCALE:GREGORIAN
BEGIN:VEVENT
DTSTART:20171204T220000Z
DTEND:20171204T230000Z
X-MICROSOFT-CDO-ALLDAYEVENT:FALSE
SUMMARY:Ribbon Cutting and Open House for Caris Healthcare at Villages of Jackson Creek Memory Care
DESCRIPTION:Join us for the ribbon cutting\, welcoming Caris Healthcare to our community\, and enjoy food\, wine\, fellowship\, and more with the Holiday Celebration at the host\, The Villages of Jackson Creek Memory Care. \n\nThe Ribbon Cutting & Open House is from 4:00 - 6:30 pm. The Ribbon Cutting portion of the evening will be at 4:15 pm.
X-ALT-DESC;FMTTYPE=text/html:Join us for the ribbon cutting\, welcoming Caris&nbsp\;Healthcare to our community\, and enjoy food\, wine\, fellowship\, and more with the Holiday Celebration at the host\, The Villages of Jackson Creek Memory Care.&nbsp\;<br />\nThe Ribbon Cutting &amp\; Open House is from 4:00 - 6:30 pm. The Ribbon Cutting portion of the evening will be at 4:15 pm.
LOCATION:Villages of Jackson Creek Memory Care 19400 E. 40th Street S. Independence\, MO 64057
UID:e.2043.5483
SEQUENCE:3
DTSTAMP:20260424T055623Z
URL:https://business.ichamber.biz/events/details/ribbon-cutting-and-open-house-for-caris-healthcare-at-villages-of-jackson-creek-memory-care-12-04-2017-5483
END:VEVENT

END:VCALENDAR
