BEGIN:VCALENDAR
VERSION:2.0
PRODID:-//ChamberMaster//Event Calendar 2.0//EN
METHOD:PUBLISH
X-PUBLISHED-TTL:P3D
REFRESH-INTERVAL:P3D
CALSCALE:GREGORIAN
BEGIN:VEVENT
DTSTART:20151111T210000Z
DTEND:20151112T010000Z
X-MICROSOFT-CDO-ALLDAYEVENT:FALSE
SUMMARY:Ribbon Cutting and Open House for Drumm Farm Fitness Center
DESCRIPTION:Come join the ribbon cutting party at Drumm Farm Fitness. They will have multiple vendors and giveaways. Check out the new facility. 810 Radio will be doing a live remote. \n\nThe Ribbon Cutting portion of the evening will be at 4:00 pm.
X-ALT-DESC;FMTTYPE=text/html:Come join the ribbon cutting party at Drumm Farm Fitness. They will have multiple vendors and giveaways. Check out the new facility. 810 Radio will be doing a live remote.&nbsp\;<br />\nThe Ribbon Cutting portion of the evening will be at 4:00 pm.
LOCATION:15400 E 34th St Independence\, MO 64055
UID:e.2043.2714
SEQUENCE:3
DTSTAMP:20260425T113047Z
URL:https://business.ichamber.biz/events/details/ribbon-cutting-and-open-house-for-drumm-farm-fitness-center-11-11-2015-2714
END:VEVENT

END:VCALENDAR
