BEGIN:VCALENDAR
VERSION:2.0
PRODID:-//ChamberMaster//Event Calendar 2.0//EN
METHOD:PUBLISH
X-PUBLISHED-TTL:P3D
REFRESH-INTERVAL:P3D
CALSCALE:GREGORIAN
BEGIN:VEVENT
DTSTART:20160719T163000Z
DTEND:20160719T183000Z
X-MICROSOFT-CDO-ALLDAYEVENT:FALSE
SUMMARY:Ribbon Cutting: ARCpoint Labs of Independence
DESCRIPTION:Please join us for the Grand Opening of the new Independence location of ARCpoint Labs!
X-ALT-DESC;FMTTYPE=text/html:Please join us for the Grand Opening of the new Independence location of&nbsp\;ARCpoint Labs!
LOCATION:3675 Noland Rd Ste 200 Independence MO 64055
UID:e.2043.3512
SEQUENCE:3
DTSTAMP:20260425T034550Z
URL:https://business.ichamber.biz/events/details/ribbon-cutting-arcpoint-labs-of-independence-07-19-2016-3512
END:VEVENT

END:VCALENDAR
