BEGIN:VCALENDAR
VERSION:2.0
PRODID:-//ChamberMaster//Event Calendar 2.0//EN
METHOD:PUBLISH
X-PUBLISHED-TTL:P3D
REFRESH-INTERVAL:P3D
CALSCALE:GREGORIAN
BEGIN:VEVENT
DTSTART:20220104T173000Z
DTEND:20220104T183000Z
X-MICROSOFT-CDO-ALLDAYEVENT:FALSE
SUMMARY:Ribbon Cutting - Belle Nail Studio
DESCRIPTION:Join us in celebrating the opening of Belle Nail Studio! Ribbon cutting ceremony will begin at 11:30am. Food and refreshments will be served!
X-ALT-DESC;FMTTYPE=text/html:Join us in celebrating the opening of Belle Nail Studio! Ribbon cutting ceremony will begin at 11:30am. Food and refreshments will be served!
LOCATION:16641 East 23rd St. S. Independence \, MO 64055
UID:e.2043.14074
SEQUENCE:3
DTSTAMP:20260423T203950Z
URL:https://business.ichamber.biz/events/details/ribbon-cutting-belle-nail-studio-14074
END:VEVENT

END:VCALENDAR
