BEGIN:VCALENDAR
VERSION:2.0
PRODID:-//ChamberMaster//Event Calendar 2.0//EN
METHOD:PUBLISH
X-PUBLISHED-TTL:P3D
REFRESH-INTERVAL:P3D
CALSCALE:GREGORIAN
BEGIN:VEVENT
DTSTART:20160803T163000Z
DTEND:20160803T183000Z
X-MICROSOFT-CDO-ALLDAYEVENT:FALSE
SUMMARY:Ribbon Cutting: CARSTAR Cunningham Auto and Collision
DESCRIPTION:Join us for the Grand Re-Opening of CARSTAR Cunningham Auto and Collision!
X-ALT-DESC;FMTTYPE=text/html:Join us for the Grand Re-Opening of CARSTAR&nbsp\;Cunningham Auto and Collision!
LOCATION:1234 S Dodgion Independence MO 64055
UID:e.2043.3544
SEQUENCE:3
DTSTAMP:20260425T025937Z
URL:https://business.ichamber.biz/events/details/ribbon-cutting-carstar-cunningham-auto-and-collision-08-03-2016-3544
END:VEVENT

END:VCALENDAR
