BEGIN:VCALENDAR
VERSION:2.0
PRODID:-//ChamberMaster//Event Calendar 2.0//EN
METHOD:PUBLISH
X-PUBLISHED-TTL:P3D
REFRESH-INTERVAL:P3D
CALSCALE:GREGORIAN
BEGIN:VEVENT
DTSTART:20180924T210000Z
DTEND:20180924T220000Z
X-MICROSOFT-CDO-ALLDAYEVENT:FALSE
SUMMARY:Ribbon Cutting Ceremony for American Shaman Independence
DESCRIPTION:Come join us as we welcome American Shaman to Independence and celebrate their Ribbon Cutting!\n\n\n\n Ribbon Cutting Ceremony will begin at 4:15 with networking following the ribbon cutting. \n\n*Networking\n\n*Hors d'oeuvres\n\n*Drinks\n\n*Raffle Prizes Including:\n\n\n	1 Bottle of Water Soluble - Choice of Flavor (Value $59.99)\n	1 Bottle of Water Soluble - Choice of Flavor (Value $59.99)\n	1 Bottle of Water Soluble + 1 Container of Equine Ointment (Value $170)
X-ALT-DESC;FMTTYPE=text/html:<span style="font-size:14px\;"><span style="color:#000000\;">Come join us as we welcome American Shaman to Independence and celebrate their Ribbon Cutting!<br />\n<br />\n&nbsp\;Ribbon Cutting Ceremony will begin at 4:15 with networking following the ribbon cutting.&nbsp\;<br />\n*Networking<br />\n*Hors d&#39\;oeuvres<br />\n*Drinks<br />\n*Raffle Prizes Including:</span></span>\n\n<ul>\n	<li><span style="font-size:14px\;"><span style="font-family:arial\;"><span style="color: black\;">1 Bottle of Water Soluble - Choice of Flavor (Value $59.99)</span></span></span></li>\n	<li><span style="font-size:14px\;"><span style="font-family:arial\;"><span style="color: black\;"><span style="color: black\;">1 Bottle of Water Soluble - Choice of Flavor (Value $59.99)</span></span></span></span></li>\n	<li><span style="font-size:14px\;"><span style="font-family:arial\;"><span style="color: black\;"><span style="color: black\;"><span style="color: black\;">1 Bottle of Water Soluble + 1 Container of Equine Ointment (Value $170)</span></span></span></span></span></li>\n</ul>\n<br />\n<br />\n<br />\n<br />\n&nbsp\;
LOCATION:American Shaman Independence 19321 E. US Highway 40 Independence\, MO 64055
UID:e.2043.8463
SEQUENCE:3
DTSTAMP:20260424T120250Z
URL:https://business.ichamber.biz/events/details/ribbon-cutting-ceremony-for-american-shaman-independence-8463
END:VEVENT

END:VCALENDAR
