BEGIN:VCALENDAR
VERSION:2.0
PRODID:-//ChamberMaster//Event Calendar 2.0//EN
METHOD:PUBLISH
X-PUBLISHED-TTL:P3D
REFRESH-INTERVAL:P3D
CALSCALE:GREGORIAN
BEGIN:VEVENT
DTSTART:20150623T150000Z
DTEND:20150623T160000Z
X-MICROSOFT-CDO-ALLDAYEVENT:FALSE
SUMMARY:Ribbon Cutting Ceremony for AT&T
DESCRIPTION:The Independence Chamber and AT&T invite you to attend a special announcement at 10 a.m.\, Tuesday\, June 23\, in room 1A of the Ennovation Center. \n\nAT&T will be announcing a new residential and small business service to be offered in parts of Independence.  AT&T is the first provider to offer such a service in Independence.Come join in the excitement and learn more about this new and ultrafast service.
X-ALT-DESC;FMTTYPE=text/html:<span style="font-size:12px\;"><span style="font-family:arial\;"><span style="color: rgb(0\, 0\, 0)\; line-height: normal\; text-align: -webkit-center\;">The Independence Chamber and AT&amp\;T invite you to attend a&nbsp\;<strong>special announcement</strong>&nbsp\;at&nbsp\;</span><span style="color: rgb(0\, 0\, 0)\; line-height: normal\;">10 a.m.\, Tuesday\, June 23\, in room 1A of the Ennovation Center.&nbsp\;</span></span></span>\n\n<p class="MsoNormal"><span style="font-family:arial\;">AT&amp\;T will be announcing a new residential and small business service to be offered in parts of Independence.&nbsp\; AT&amp\;T is the first provider to offer such a service in Independence.<span style="line-height: 1.6\;">Come join in the excitement and learn more about this new and ultrafast service.</span></span></p>\n\n<p class="MsoNormal"><o:p></o:p></p>\n
LOCATION:Ennovation Center 201 N. Forest Ave. Independence\, Mo. 64050
UID:e.2043.2640
SEQUENCE:3
DTSTAMP:20260425T172231Z
URL:https://business.ichamber.biz/events/details/ribbon-cutting-ceremony-for-at-t-06-23-2015-2640
END:VEVENT

END:VCALENDAR
