BEGIN:VCALENDAR
VERSION:2.0
PRODID:-//ChamberMaster//Event Calendar 2.0//EN
METHOD:PUBLISH
X-PUBLISHED-TTL:P3D
REFRESH-INTERVAL:P3D
CALSCALE:GREGORIAN
BEGIN:VEVENT
DTSTART:20170912T213000Z
DTEND:20170912T230000Z
X-MICROSOFT-CDO-ALLDAYEVENT:FALSE
SUMMARY:Ribbon Cutting Ceremony for Avitus Group
DESCRIPTION:Come join the Avitus Group as they celebrate their Ribbon Cutting!   Enjoy light refreshments from 4:30 pm-6:00 pm\, with the ribbon cutting portion at 4:45 pm.
X-ALT-DESC;FMTTYPE=text/html:<span style="font-size: 14px\; font-family: arial\;">Come join </span>the Avitus Group<span style="font-size:14px\;"><span style="font-family:arial\;">&nbsp\;as they&nbsp\;celebrate their Ribbon Cutting!&nbsp\; &nbsp\;Enjoy light refreshments from 4:30 pm-6:00 pm\, with the ribbon cutting portion at 4:45 pm. &nbsp\;</span></span><br />\n&nbsp\;
LOCATION:Avitus Group 19045 E. Valley View Pkwy. Independence\, MO 64055
UID:e.2043.4985
SEQUENCE:3
DTSTAMP:20260424T101844Z
URL:https://business.ichamber.biz/events/details/ribbon-cutting-ceremony-for-avitus-group-09-12-2017-4985
END:VEVENT

END:VCALENDAR
