BEGIN:VCALENDAR
VERSION:2.0
PRODID:-//ChamberMaster//Event Calendar 2.0//EN
METHOD:PUBLISH
X-PUBLISHED-TTL:P3D
REFRESH-INTERVAL:P3D
CALSCALE:GREGORIAN
BEGIN:VEVENT
DTSTART:20151009T130000Z
DTEND:20151009T143000Z
X-MICROSOFT-CDO-ALLDAYEVENT:FALSE
SUMMARY:Ribbon Cutting Ceremony for Batteries + Bulbs
DESCRIPTION:Welcome Batteries + Bulbs to their new location in Independence.\n\nCars 4 Heros will be giving away a car that morning before the ribbon cutting.
X-ALT-DESC;FMTTYPE=text/html:Welcome Batteries + Bulbs to their new location in Independence.<br />\nCars 4 Heros will be giving away a car that morning before the ribbon cutting.
LOCATION:3709 S Noland Rd Ste C Independence MO 64055
UID:e.2043.2710
SEQUENCE:3
DTSTAMP:20260425T122924Z
URL:https://business.ichamber.biz/events/details/ribbon-cutting-ceremony-for-batteries-bulbs-10-09-2015-2710
END:VEVENT

END:VCALENDAR
