BEGIN:VCALENDAR
VERSION:2.0
PRODID:-//ChamberMaster//Event Calendar 2.0//EN
METHOD:PUBLISH
X-PUBLISHED-TTL:P3D
REFRESH-INTERVAL:P3D
CALSCALE:GREGORIAN
BEGIN:VEVENT
DTSTART:20170509T213000Z
DTEND:20170509T223000Z
X-MICROSOFT-CDO-ALLDAYEVENT:FALSE
SUMMARY:Ribbon Cutting Ceremony for BEMER Group\, Directed Minds LLC
DESCRIPTION:Come join BEMER Group\, Directed Minds LLC as they celebrate their storefront opening for\, a satellite office of Directed Minds / Kavanah LLC Neurofeedback for Life\, (located on the 3rd floor across the street).   Sign up for a free drawing\, and enjoy light refreshments from 4:30 pm-5:30 pm\, with the ribbon cutting portion at 4:45 pm.
X-ALT-DESC;FMTTYPE=text/html:<span style="font-size:14px\;"><span style="font-family:arial\;">Come join </span></span>BEMER<span style="font-family: arial\; font-size: 14px\;">&nbsp\;Group\, Directed Minds LLC</span><span style="font-size:14px\;"><span style="font-family:arial\;">&nbsp\;as they&nbsp\;celebrate their storefront opening for\, a satellite office of Directed Minds / Kavanah LLC Neurofeedback for Life\, (located on the 3rd floor across the street). &nbsp\; Sign up for a free drawing\, and enjoy light refreshments from 4:30 pm-5:30 pm\, with the ribbon cutting portion at 4:45 pm. &nbsp\;</span></span><br />\n&nbsp\;
LOCATION:210 W. Lexington Independence\, MO 64050 (Next to Cafe Verona)
UID:e.2043.4321
SEQUENCE:3
DTSTAMP:20260424T153641Z
URL:https://business.ichamber.biz/events/details/ribbon-cutting-ceremony-for-bemer-group-directed-minds-llc-05-09-2017-4321
END:VEVENT

END:VCALENDAR
