BEGIN:VCALENDAR
VERSION:2.0
PRODID:-//ChamberMaster//Event Calendar 2.0//EN
METHOD:PUBLISH
X-PUBLISHED-TTL:P3D
REFRESH-INTERVAL:P3D
CALSCALE:GREGORIAN
BEGIN:VEVENT
DTSTART:20171114T220000Z
DTEND:20171115T000000Z
X-MICROSOFT-CDO-ALLDAYEVENT:FALSE
SUMMARY:Ribbon Cutting Ceremony for CAPA
DESCRIPTION:Come and join CAPA as they celebrate the Ribbon Cutting for the addition of three new areas in their facility for play therapy! Come enjoy an open house with tours\, light refreshments\, ands networking. The ribbon cutting portion will be at 4:30 pm with remarks from Frank White Jr.\, Jackson County Executive and CAPA Children's Champion.
X-ALT-DESC;FMTTYPE=text/html:Come and join CAPA as they celebrate the Ribbon Cutting for the addition of three new areas in their facility for play therapy! Come enjoy an open house with tours\, light refreshments\, ands networking. The ribbon cutting portion will be at 4:30 pm with remarks from Frank White Jr.\, Jackson County Executive and CAPA&nbsp\;Children&#39\;s Champion.&nbsp\;<br />\n&nbsp\;
LOCATION:503 East 23rd St S Independence\, MO 64055
UID:e.2043.4528
SEQUENCE:3
DTSTAMP:20260424T065723Z
URL:https://business.ichamber.biz/events/details/ribbon-cutting-ceremony-for-capa-11-14-2017-4528
END:VEVENT

END:VCALENDAR
