BEGIN:VCALENDAR
VERSION:2.0
PRODID:-//ChamberMaster//Event Calendar 2.0//EN
METHOD:PUBLISH
X-PUBLISHED-TTL:P3D
REFRESH-INTERVAL:P3D
CALSCALE:GREGORIAN
BEGIN:VEVENT
DTSTART:20151112T220000Z
DTEND:20151113T000000Z
X-MICROSOFT-CDO-ALLDAYEVENT:FALSE
SUMMARY:Ribbon Cutting Ceremony for Continua Home Health & Hospice
DESCRIPTION:Please join us for a Ribbon Cutting Ceremony for the new Independence location and 10 year anniversary of Continua Home Health & Hospice.
X-ALT-DESC;FMTTYPE=text/html:<span style="color: rgb(51\, 51\, 51)\; font-family: sans-serif\, Arial\, Verdana\, 'Trebuchet MS'\; font-size: 13px\; line-height: 20.8px\; background-color: rgb(255\, 255\, 255)\;">Please join us for a Ribbon Cutting Ceremony for the new Independence location and 10 year anniversary of Continua Home Health &amp\; Hospice.</span>
LOCATION:17201 E US Hwy 40 Ste 207 Independence\, MO 64055
UID:e.2043.2694
SEQUENCE:3
DTSTAMP:20260425T113000Z
URL:https://business.ichamber.biz/events/details/ribbon-cutting-ceremony-for-continua-home-health-hospice-11-12-2015-2694
END:VEVENT

END:VCALENDAR
