BEGIN:VCALENDAR
VERSION:2.0
PRODID:-//ChamberMaster//Event Calendar 2.0//EN
METHOD:PUBLISH
X-PUBLISHED-TTL:P3D
REFRESH-INTERVAL:P3D
CALSCALE:GREGORIAN
BEGIN:VEVENT
DTSTART:20180404T210000Z
DTEND:20180404T230000Z
X-MICROSOFT-CDO-ALLDAYEVENT:FALSE
SUMMARY:Ribbon Cutting Ceremony for Elsie Bell's Antique Mall
DESCRIPTION:Come join us as we welcome Elsie Bell's Antique Mall to Independence and celebrate their Ribbon Cutting!\n\n\n\n Ribbon Cutting Ceremony will begin at 4:30 with tours & networking following the ribbon cutting. \n\n*Networking\n\n*Tours \n\n*Raffle Drawings (two gift certificates for $25 and a $50 gift certificate will be raffled off\, the drawing will take place at 5:00 pm\, must be present to win)\n\n*Refreshments\n\n*Fun\n\n*Discounts on assessment services
X-ALT-DESC;FMTTYPE=text/html:<span style="color:#000000\;">Come join us as we welcome Elsie Bell&#39\;s Antique Mall to Independence and celebrate their Ribbon Cutting!<br />\n<br />\n&nbsp\;Ribbon Cutting Ceremony will begin at 4:30 with tours &amp\; networking following the ribbon cutting.&nbsp\;<br />\n*Networking<br />\n*Tours&nbsp\;<br />\n*Raffle Drawings (two gift certificates for $25 and a $50 gift certificate will be raffled off\, the drawing will take place at 5:00 pm\, must be present to win)<br />\n*Refreshments<br />\n*Fun<br />\n*Discounts on assessment services&nbsp\;</span><br />\n&nbsp\;
LOCATION:Elsie Bell's Antique Mall 1101 S. Chrysler Ave. Independence\, MO 64050
UID:e.2043.7273
SEQUENCE:3
DTSTAMP:20260424T055608Z
URL:https://business.ichamber.biz/events/details/ribbon-cutting-ceremony-for-elsie-bell-s-antique-mall-7273
END:VEVENT

END:VCALENDAR
