BEGIN:VCALENDAR
VERSION:2.0
PRODID:-//ChamberMaster//Event Calendar 2.0//EN
METHOD:PUBLISH
X-PUBLISHED-TTL:P3D
REFRESH-INTERVAL:P3D
CALSCALE:GREGORIAN
BEGIN:VEVENT
DTSTART:20150330T210000Z
DTEND:20150330T220000Z
X-MICROSOFT-CDO-ALLDAYEVENT:FALSE
SUMMARY:Ribbon Cutting Ceremony for Express Employment Professionals
DESCRIPTION:Be sure to join us in a ribbon cutting ceremony for Express Employment Professionals. This ceremony will be jointly hosted with the Blue Springs and Lee's Summit Chambers of Commerce.
X-ALT-DESC;FMTTYPE=text/html:Be sure to join us in a ribbon cutting ceremony for Express Employment Professionals. This ceremony will be jointly hosted with the Blue Springs and Lee&#39\;s Summit Chambers of Commerce.&nbsp\;<br />\n&nbsp\;
LOCATION:1739 Burdett Crossing Blue Springs\, MO 64015
UID:e.2043.2486
SEQUENCE:3
DTSTAMP:20260425T204656Z
URL:https://business.ichamber.biz/events/details/ribbon-cutting-ceremony-for-express-employment-professionals-03-30-2015-2486
END:VEVENT

END:VCALENDAR
