BEGIN:VCALENDAR
VERSION:2.0
PRODID:-//ChamberMaster//Event Calendar 2.0//EN
METHOD:PUBLISH
X-PUBLISHED-TTL:P3D
REFRESH-INTERVAL:P3D
CALSCALE:GREGORIAN
BEGIN:VEVENT
DTSTART:20170427T213000Z
DTEND:20170427T223000Z
X-MICROSOFT-CDO-ALLDAYEVENT:FALSE
SUMMARY:Ribbon Cutting Ceremony for Farmers Insurance
DESCRIPTION:Please join us for a Ribbon Cutting Ceremony for the new location of The Trevor Tilton Farmers Agency.
X-ALT-DESC;FMTTYPE=text/html:Please join us for a Ribbon Cutting Ceremony for the new location of The Trevor Tilton Farmers&nbsp\;Agency.&nbsp\;
LOCATION:800 W. Maple Ave. Independence\, MO 64050
UID:e.2043.4309
SEQUENCE:3
DTSTAMP:20260424T164921Z
URL:https://business.ichamber.biz/events/details/ribbon-cutting-ceremony-for-farmers-insurance-04-27-2017-4309
END:VEVENT

END:VCALENDAR
