BEGIN:VCALENDAR
VERSION:2.0
PRODID:-//ChamberMaster//Event Calendar 2.0//EN
METHOD:PUBLISH
X-PUBLISHED-TTL:P3D
REFRESH-INTERVAL:P3D
CALSCALE:GREGORIAN
BEGIN:VEVENT
DTSTART:20141113T203000Z
DTEND:20141113T213000Z
X-MICROSOFT-CDO-ALLDAYEVENT:FALSE
SUMMARY:Ribbon Cutting Ceremony for Forest View Wellness Bistro
DESCRIPTION:Be sure to join us in celebrating the opening of the Forest View Wellness Bistro at The Groves. \n\n\n\nCarrying on its tradition for being progressive\, The Groves is "branching out" by creating an innovative wellness atmosphere.  Forest View Wellness Bistro opens November 13th offering "nourishing opportunities for continued vitality" through wellness programming and classes!\n\n\n\nWe welcome our neighborhood and community to join us for a cup of coffee   but stay and explore more of our Live Well Menu!  Nurture your LIFE with our wellness opportunities\, including meditation\, yoga\, water fitness and cognitive exercises.  Top it off by swapping poetry "recipes" or "tasting" current events!  Whatever your appetite\, nourish YOUR vitality at Forest View Wellness Bistro and LIVE WELL!
X-ALT-DESC;FMTTYPE=text/html:Be sure to join us in celebrating the opening of the Forest View Wellness Bistro at The Groves.&nbsp\;<br />\n<br />\nCarrying on its tradition for being progressive\, The Groves is &ldquo\;branching out&rdquo\; by creating an innovative wellness atmosphere.&nbsp\; Forest View Wellness Bistro opens November 13th offering &ldquo\;nourishing opportunities for continued vitality&rdquo\; through wellness programming and classes!<br />\n<br />\nWe welcome our neighborhood and community to join us for a cup of coffee &ndash\; but stay and explore more of our Live Well Menu!&nbsp\; Nurture your LIFE with our wellness opportunities\, including meditation\, yoga\, water fitness and cognitive exercises.&nbsp\; Top it off by swapping poetry &ldquo\;recipes&rdquo\; or &ldquo\;tasting&rdquo\; current events!&nbsp\; Whatever your appetite\, nourish YOUR vitality at Forest View Wellness Bistro and LIVE WELL!<br />\n&nbsp\;
LOCATION:The Groves Birchwood Building 1600 W. White Oak Independence\, MO 64050
UID:e.2043.1048
SEQUENCE:3
DTSTAMP:20260426T015237Z
URL:https://business.ichamber.biz/events/details/ribbon-cutting-ceremony-for-forest-view-wellness-bistro-11-13-2014-1048
END:VEVENT

END:VCALENDAR
