BEGIN:VCALENDAR
VERSION:2.0
PRODID:-//ChamberMaster//Event Calendar 2.0//EN
METHOD:PUBLISH
X-PUBLISHED-TTL:P3D
REFRESH-INTERVAL:P3D
CALSCALE:GREGORIAN
BEGIN:VEVENT
DTSTART:20180327T210000Z
DTEND:20180327T233000Z
X-MICROSOFT-CDO-ALLDAYEVENT:FALSE
SUMMARY:Ribbon Cutting Ceremony for Healing Well Chiropractic
DESCRIPTION:Come join us as we welcome Healing Well Chiropractic to Independence and celebrate their Ribbon Cutting!\n\n\n\nThe Open House will begin at 4:00\, Ribbon Cutting Ceremony will begin at 4:30\, and tours\, raffle drawings\, & networking following the ribbon cutting. \n\n*Networking\n\n*Tours \n\n*Egg Hunt with Prizes \n\n*Food \n\n*Fun
X-ALT-DESC;FMTTYPE=text/html:<span style="color:#000000\;">Come join us as we welcome Healing Well Chiropractic to Independence and celebrate their Ribbon Cutting!<br />\n<br />\nThe Open House will begin at 4:00\, Ribbon Cutting Ceremony will begin at 4:30\, and tours\, raffle drawings\, &amp\; networking following the ribbon cutting.&nbsp\;<br />\n*Networking<br />\n*Tours&nbsp\;<br />\n*Egg Hunt with Prizes&nbsp\;<br />\n*Food&nbsp\;<br />\n*Fun</span><br />\n&nbsp\;
LOCATION:Healing Well Chiropractic 19101 E. Valley View Pkwy. Ste. J Independence\, MO 64050
UID:e.2043.6237
SEQUENCE:3
DTSTAMP:20260424T045347Z
URL:https://business.ichamber.biz/events/details/ribbon-cutting-ceremony-for-healing-well-chiropractic-6237
END:VEVENT

END:VCALENDAR
