BEGIN:VCALENDAR
VERSION:2.0
PRODID:-//ChamberMaster//Event Calendar 2.0//EN
METHOD:PUBLISH
X-PUBLISHED-TTL:P3D
REFRESH-INTERVAL:P3D
CALSCALE:GREGORIAN
BEGIN:VEVENT
DTSTART:20180321T210000Z
DTEND:20180321T230000Z
X-MICROSOFT-CDO-ALLDAYEVENT:FALSE
SUMMARY:Ribbon Cutting Ceremony for Paramount Health Chiropractic
DESCRIPTION:Come join us as we welcome Paramount Health Chiropractic to Independence and celebrate their Ribbon Cutting!\n\n\n\nThe Open House will begin at 4:00\, Ribbon Cutting Ceremony will begin at 4:15\, and tours\, raffle drawings\, & networking following the ribbon cutting. \n\n*Networking\n\n*Tours \n\n*Raffle Drawings \n\n*Food \n\n*Fun\n\n*Discounts on assessment services
X-ALT-DESC;FMTTYPE=text/html:<span style="color:#000000\;">Come join us as we welcome Paramount Health Chiropractic to Independence and celebrate their Ribbon Cutting!<br />\n<br />\nThe Open House will begin at 4:00\, Ribbon Cutting Ceremony will begin at 4:15\, and tours\, raffle drawings\, &amp\; networking following the ribbon cutting.&nbsp\;<br />\n*Networking<br />\n*Tours&nbsp\;<br />\n*Raffle Drawings&nbsp\;<br />\n*Food&nbsp\;<br />\n*Fun<br />\n*Discounts on assessment services&nbsp\;</span><br />\n&nbsp\;
LOCATION:Paramount Health Chiropractic 20100 E Jackson Dr Suite A\, Independence\, MO 64057
UID:e.2043.6229
SEQUENCE:3
DTSTAMP:20260424T045347Z
URL:https://business.ichamber.biz/events/details/ribbon-cutting-ceremony-for-paramount-health-chiropractic-6229
END:VEVENT

END:VCALENDAR
