BEGIN:VCALENDAR
VERSION:2.0
PRODID:-//ChamberMaster//Event Calendar 2.0//EN
METHOD:PUBLISH
X-PUBLISHED-TTL:P3D
REFRESH-INTERVAL:P3D
CALSCALE:GREGORIAN
BEGIN:VEVENT
DTSTART:20171005T140000Z
DTEND:20171005T150000Z
X-MICROSOFT-CDO-ALLDAYEVENT:FALSE
SUMMARY:Ribbon Cutting Ceremony for Partners in Primary Care
DESCRIPTION:Come and join Partners in Primary Care as they celebrate their Ribbon Cutting and we welcome them to Independence! The ribbon cutting portion will be at 9:15 am.
X-ALT-DESC;FMTTYPE=text/html:Come and join Partners in Primary Care as they celebrate their Ribbon Cutting and we welcome them to Independence! The ribbon cutting portion will be at 9:15 am.&nbsp\;<br />\n&nbsp\;
LOCATION:19401 E. 39th St. Independence\, MO 64057
UID:e.2043.5265
SEQUENCE:3
DTSTAMP:20260424T092523Z
URL:https://business.ichamber.biz/events/details/ribbon-cutting-ceremony-for-partners-in-primary-care-10-05-2017-5265
END:VEVENT

END:VCALENDAR
