BEGIN:VCALENDAR
VERSION:2.0
PRODID:-//ChamberMaster//Event Calendar 2.0//EN
METHOD:PUBLISH
X-PUBLISHED-TTL:P3D
REFRESH-INTERVAL:P3D
CALSCALE:GREGORIAN
BEGIN:VEVENT
DTSTART:20150929T140000Z
DTEND:20150929T150000Z
X-MICROSOFT-CDO-ALLDAYEVENT:FALSE
SUMMARY:Ribbon Cutting Ceremony for Starbuck's at Independence Center
DESCRIPTION:Please join us for a Ribbon Cutting Ceremony for the Grand Opening of Starbuck's at Independence Center.
X-ALT-DESC;FMTTYPE=text/html:Please join us for a Ribbon Cutting Ceremony for the Grand Opening of Starbuck&#39\;s at Independence Center.
LOCATION:18801 E 39th St S Independence MO Enter in the doors by Applebee's. The event will take place in the food court.
UID:e.2043.2690
SEQUENCE:3
DTSTAMP:20260425T134506Z
URL:https://business.ichamber.biz/events/details/ribbon-cutting-ceremony-for-starbuck-s-at-independence-center-09-29-2015-2690
END:VEVENT

END:VCALENDAR
