BEGIN:VCALENDAR
VERSION:2.0
PRODID:-//ChamberMaster//Event Calendar 2.0//EN
METHOD:PUBLISH
X-PUBLISHED-TTL:P3D
REFRESH-INTERVAL:P3D
CALSCALE:GREGORIAN
BEGIN:VEVENT
DTSTART:20150827T160000Z
DTEND:20150827T173000Z
X-MICROSOFT-CDO-ALLDAYEVENT:FALSE
SUMMARY:Ribbon Cutting Ceremony for United Consumers Credit Union
DESCRIPTION:Please join us for the Ribbon Cutting ceremony for United Consumers Credit Union!\n\n*Deli Trays\n\n*Cake\n\n*Door Prizes\n\n*Swag Bags\n\n*And more!
X-ALT-DESC;FMTTYPE=text/html:<span style="line-height: 20.7999992370605px\;">Please join us for the Ribbon Cutting ceremony for United Consumers Credit Union!<br />\n*Deli Trays<br />\n*Cake<br />\n*Door Prizes<br />\n*Swag Bags<br />\n*And more!&nbsp\;</span><br />\n&nbsp\;
LOCATION:17911 E. 24 Hwy Independence\, MO 64056
UID:e.2043.2669
SEQUENCE:3
DTSTAMP:20260425T150718Z
URL:https://business.ichamber.biz/events/details/ribbon-cutting-ceremony-for-united-consumers-credit-union-08-27-2015-2669
END:VEVENT

END:VCALENDAR
