BEGIN:VCALENDAR
VERSION:2.0
PRODID:-//ChamberMaster//Event Calendar 2.0//EN
METHOD:PUBLISH
X-PUBLISHED-TTL:P3D
REFRESH-INTERVAL:P3D
CALSCALE:GREGORIAN
BEGIN:VEVENT
DTSTART:20170209T223000Z
DTEND:20170209T233000Z
X-MICROSOFT-CDO-ALLDAYEVENT:FALSE
SUMMARY:Ribbon Cutting Cricket Wireless Kiosk
DESCRIPTION:Join us for a ribbon cutting to celebrate new ownership of the Cricket Wireless Kiosk at the Independence Center!
X-ALT-DESC;FMTTYPE=text/html:<span style="font-size: 14px\;">Join us for a ribbon cutting to celebrate new ownership of the Cricket Wireless Kiosk at the Independence Center!</span><br />\n<br />\n<br />\n&nbsp\;
LOCATION:Cricket Wireless Independence Center 18801 E.39th St Independence\, MO 64057
UID:e.2043.3617
SEQUENCE:3
DTSTAMP:20260424T192343Z
URL:https://business.ichamber.biz/events/details/ribbon-cutting-cricket-wireless-kiosk-02-09-2017-3617
END:VEVENT

END:VCALENDAR
